BEGIN:VCALENDAR
VERSION:2.0
PRODID:-//Dance Quest Ballroom - ECPv6.15.18//NONSGML v1.0//EN
CALSCALE:GREGORIAN
METHOD:PUBLISH
X-WR-CALNAME:Dance Quest Ballroom
X-ORIGINAL-URL:https://dancequestnashville.com
X-WR-CALDESC:Events for Dance Quest Ballroom
REFRESH-INTERVAL;VALUE=DURATION:PT1H
X-Robots-Tag:noindex
X-PUBLISHED-TTL:PT1H
BEGIN:VTIMEZONE
TZID:America/Chicago
BEGIN:DAYLIGHT
TZOFFSETFROM:-0600
TZOFFSETTO:-0500
TZNAME:CDT
DTSTART:20240310T080000
END:DAYLIGHT
BEGIN:STANDARD
TZOFFSETFROM:-0500
TZOFFSETTO:-0600
TZNAME:CST
DTSTART:20241103T070000
END:STANDARD
BEGIN:DAYLIGHT
TZOFFSETFROM:-0600
TZOFFSETTO:-0500
TZNAME:CDT
DTSTART:20250309T080000
END:DAYLIGHT
BEGIN:STANDARD
TZOFFSETFROM:-0500
TZOFFSETTO:-0600
TZNAME:CST
DTSTART:20251102T070000
END:STANDARD
BEGIN:DAYLIGHT
TZOFFSETFROM:-0600
TZOFFSETTO:-0500
TZNAME:CDT
DTSTART:20260308T080000
END:DAYLIGHT
BEGIN:STANDARD
TZOFFSETFROM:-0500
TZOFFSETTO:-0600
TZNAME:CST
DTSTART:20261101T070000
END:STANDARD
END:VTIMEZONE
BEGIN:VEVENT
DTSTART;TZID=America/Chicago:20251010T200000
DTEND;TZID=America/Chicago:20251010T200000
DTSTAMP:20260422T080905
CREATED:20251006T182443Z
LAST-MODIFIED:20251006T182443Z
UID:6756-1760126400-1760126400@dancequestnashville.com
SUMMARY:Oktoberfest Dance Party
DESCRIPTION:
URL:https://dancequestnashville.com/event/oktoberfest-dance-party/
END:VEVENT
BEGIN:VEVENT
DTSTART;TZID=America/Chicago:20251010T190000
DTEND;TZID=America/Chicago:20251010T190000
DTSTAMP:20260422T080905
CREATED:20251006T182456Z
LAST-MODIFIED:20251006T182456Z
UID:6757-1760122800-1760122800@dancequestnashville.com
SUMMARY:Swing
DESCRIPTION:
URL:https://dancequestnashville.com/event/swing-3/
END:VEVENT
BEGIN:VEVENT
DTSTART;TZID=America/Chicago:20251008T190000
DTEND;TZID=America/Chicago:20251008T190000
DTSTAMP:20260422T080905
CREATED:20251006T182408Z
LAST-MODIFIED:20251006T182408Z
UID:6740-1759950000-1759950000@dancequestnashville.com
SUMMARY:Rumba
DESCRIPTION:
URL:https://dancequestnashville.com/event/rumba-17/
END:VEVENT
BEGIN:VEVENT
DTSTART;VALUE=DATE:20251007
DTEND;VALUE=DATE:20251008
DTSTAMP:20260422T080905
CREATED:20251006T182407Z
LAST-MODIFIED:20251006T182407Z
UID:6739-1759795200-1759881599@dancequestnashville.com
SUMMARY:No Group Class
DESCRIPTION:
URL:https://dancequestnashville.com/event/no-group-class-64/
END:VEVENT
BEGIN:VEVENT
DTSTART;TZID=America/Chicago:20251006T183000
DTEND;TZID=America/Chicago:20251006T183000
DTSTAMP:20260422T080905
CREATED:20251006T182413Z
LAST-MODIFIED:20251006T182413Z
UID:6745-1759775400-1759775400@dancequestnashville.com
SUMMARY:E.C. Swing
DESCRIPTION:
URL:https://dancequestnashville.com/event/e-c-swing-5/
END:VEVENT
BEGIN:VEVENT
DTSTART;TZID=America/Chicago:20251005T170000
DTEND;TZID=America/Chicago:20251005T170000
DTSTAMP:20260422T080905
CREATED:20251006T182520Z
LAST-MODIFIED:20251006T182520Z
UID:6765-1759683600-1759683600@dancequestnashville.com
SUMMARY:Salsa
DESCRIPTION:
URL:https://dancequestnashville.com/event/salsa-38/
END:VEVENT
BEGIN:VEVENT
DTSTART;TZID=America/Chicago:20251005T160000
DTEND;TZID=America/Chicago:20251005T160000
DTSTAMP:20260422T080905
CREATED:20251006T182457Z
LAST-MODIFIED:20251006T182457Z
UID:6758-1759680000-1759680000@dancequestnashville.com
SUMMARY:Bachata
DESCRIPTION:
URL:https://dancequestnashville.com/event/bachata-29/
END:VEVENT
BEGIN:VEVENT
DTSTART;VALUE=DATE:20251004
DTEND;VALUE=DATE:20251005
DTSTAMP:20260422T080905
CREATED:20251006T182406Z
LAST-MODIFIED:20251006T182406Z
UID:6738-1759536000-1759622399@dancequestnashville.com
SUMMARY:No Group Class
DESCRIPTION:
URL:https://dancequestnashville.com/event/no-group-class-63/
END:VEVENT
BEGIN:VEVENT
DTSTART;TZID=America/Chicago:20251003T200000
DTEND;TZID=America/Chicago:20251003T200000
DTSTAMP:20260422T080905
CREATED:20251006T182441Z
LAST-MODIFIED:20251006T182441Z
UID:6753-1759521600-1759521600@dancequestnashville.com
SUMMARY:Dance Party
DESCRIPTION:
URL:https://dancequestnashville.com/event/dance-party-23/
END:VEVENT
BEGIN:VEVENT
DTSTART;TZID=America/Chicago:20251003T190000
DTEND;TZID=America/Chicago:20251003T190000
DTSTAMP:20260422T080905
CREATED:20251006T182442Z
LAST-MODIFIED:20251006T182442Z
UID:6754-1759518000-1759518000@dancequestnashville.com
SUMMARY:Waltz
DESCRIPTION:
URL:https://dancequestnashville.com/event/waltz-5/
END:VEVENT
BEGIN:VEVENT
DTSTART;TZID=America/Chicago:20251001T190000
DTEND;TZID=America/Chicago:20251001T190000
DTSTAMP:20260422T080905
CREATED:20251006T182405Z
LAST-MODIFIED:20251006T182405Z
UID:6737-1759345200-1759345200@dancequestnashville.com
SUMMARY:Rumba
DESCRIPTION:
URL:https://dancequestnashville.com/event/rumba-16/
END:VEVENT
BEGIN:VEVENT
DTSTART;TZID=America/Chicago:20250930T190000
DTEND;TZID=America/Chicago:20250930T190000
DTSTAMP:20260422T080905
CREATED:20250902T213224Z
LAST-MODIFIED:20250902T213224Z
UID:6695-1759258800-1759258800@dancequestnashville.com
SUMMARY:Rumba
DESCRIPTION:
URL:https://dancequestnashville.com/event/rumba-15/
END:VEVENT
BEGIN:VEVENT
DTSTART;TZID=America/Chicago:20250929T183000
DTEND;TZID=America/Chicago:20250929T183000
DTSTAMP:20260422T080905
CREATED:20250902T204214Z
LAST-MODIFIED:20250902T213240Z
UID:6660-1759170600-1759170600@dancequestnashville.com
SUMMARY:E.C. Swing
DESCRIPTION:
URL:https://dancequestnashville.com/event/e-c-swing-4/
END:VEVENT
BEGIN:VEVENT
DTSTART;TZID=America/Chicago:20250928T170000
DTEND;TZID=America/Chicago:20250928T170000
DTSTAMP:20260422T080905
CREATED:20250902T213355Z
LAST-MODIFIED:20250902T213355Z
UID:6724-1759078800-1759078800@dancequestnashville.com
SUMMARY:Salsa
DESCRIPTION:
URL:https://dancequestnashville.com/event/salsa-33/
END:VEVENT
BEGIN:VEVENT
DTSTART;TZID=America/Chicago:20250928T160000
DTEND;TZID=America/Chicago:20250928T160000
DTSTAMP:20260422T080905
CREATED:20250902T204315Z
LAST-MODIFIED:20250902T213341Z
UID:6681-1759075200-1759075200@dancequestnashville.com
SUMMARY:Bachata
DESCRIPTION:
URL:https://dancequestnashville.com/event/bachata-25/
END:VEVENT
BEGIN:VEVENT
DTSTART;TZID=America/Chicago:20250927T150000
DTEND;TZID=America/Chicago:20250927T150000
DTSTAMP:20260422T080905
CREATED:20250902T204301Z
LAST-MODIFIED:20250902T213327Z
UID:6678-1758985200-1758985200@dancequestnashville.com
SUMMARY:Bachata
DESCRIPTION:
URL:https://dancequestnashville.com/event/bachata-22/
END:VEVENT
BEGIN:VEVENT
DTSTART;TZID=America/Chicago:20250927T140000
DTEND;TZID=America/Chicago:20250927T140000
DTSTAMP:20260422T080905
CREATED:20250902T204300Z
LAST-MODIFIED:20250902T213326Z
UID:6677-1758981600-1758981600@dancequestnashville.com
SUMMARY:Salsa
DESCRIPTION:
URL:https://dancequestnashville.com/event/salsa-23/
END:VEVENT
BEGIN:VEVENT
DTSTART;TZID=America/Chicago:20250926T200000
DTEND;TZID=America/Chicago:20250926T200000
DTSTAMP:20260422T080905
CREATED:20250902T213257Z
LAST-MODIFIED:20250902T220540Z
UID:6708-1758916800-1758916800@dancequestnashville.com
SUMMARY:Dance Party 8pm-10pm
DESCRIPTION:
URL:https://dancequestnashville.com/event/dance-party-22/
END:VEVENT
BEGIN:VEVENT
DTSTART;TZID=America/Chicago:20250926T190000
DTEND;TZID=America/Chicago:20250926T190000
DTSTAMP:20260422T080905
CREATED:20250902T204158Z
LAST-MODIFIED:20250902T213225Z
UID:6656-1758913200-1758913200@dancequestnashville.com
SUMMARY:Tango
DESCRIPTION:
URL:https://dancequestnashville.com/event/tango-4/
END:VEVENT
BEGIN:VEVENT
DTSTART;TZID=America/Chicago:20250924T190000
DTEND;TZID=America/Chicago:20250924T190000
DTSTAMP:20260422T080905
CREATED:20250902T204229Z
LAST-MODIFIED:20250902T213255Z
UID:6665-1758740400-1758740400@dancequestnashville.com
SUMMARY:Cha-Cha
DESCRIPTION:
URL:https://dancequestnashville.com/event/cha-cha-6/
END:VEVENT
BEGIN:VEVENT
DTSTART;TZID=America/Chicago:20250923T190000
DTEND;TZID=America/Chicago:20250923T190000
DTSTAMP:20260422T080905
CREATED:20250902T213223Z
LAST-MODIFIED:20250902T213223Z
UID:6694-1758654000-1758654000@dancequestnashville.com
SUMMARY:Rumba
DESCRIPTION:
URL:https://dancequestnashville.com/event/rumba-14/
END:VEVENT
BEGIN:VEVENT
DTSTART;TZID=America/Chicago:20250922T183000
DTEND;TZID=America/Chicago:20250922T183000
DTSTAMP:20260422T080905
CREATED:20250902T204200Z
LAST-MODIFIED:20250902T213226Z
UID:6658-1758565800-1758565800@dancequestnashville.com
SUMMARY:E.C. Swing
DESCRIPTION:
URL:https://dancequestnashville.com/event/e-c-swing-2/
END:VEVENT
BEGIN:VEVENT
DTSTART;TZID=America/Chicago:20250921T170000
DTEND;TZID=America/Chicago:20250921T170000
DTSTAMP:20260422T080905
CREATED:20250902T213343Z
LAST-MODIFIED:20250902T213343Z
UID:6723-1758474000-1758474000@dancequestnashville.com
SUMMARY:Salsa
DESCRIPTION:
URL:https://dancequestnashville.com/event/salsa-32/
END:VEVENT
BEGIN:VEVENT
DTSTART;TZID=America/Chicago:20250921T160000
DTEND;TZID=America/Chicago:20250921T160000
DTSTAMP:20260422T080905
CREATED:20250902T204314Z
LAST-MODIFIED:20250902T213340Z
UID:6680-1758470400-1758470400@dancequestnashville.com
SUMMARY:Bachata
DESCRIPTION:
URL:https://dancequestnashville.com/event/bachata-24/
END:VEVENT
BEGIN:VEVENT
DTSTART;TZID=America/Chicago:20250920T200000
DTEND;TZID=America/Chicago:20250921T000000
DTSTAMP:20260422T080905
CREATED:20250902T220231Z
LAST-MODIFIED:20250902T220231Z
UID:6726-1758398400-1758412800@dancequestnashville.com
SUMMARY:Salsa Bachata Social 8pm-12am
DESCRIPTION:
URL:https://dancequestnashville.com/event/salsa-bachata-social-8pm-12am/
END:VEVENT
BEGIN:VEVENT
DTSTART;TZID=America/Chicago:20250920T150000
DTEND;TZID=America/Chicago:20250920T150000
DTSTAMP:20260422T080905
CREATED:20250902T213325Z
LAST-MODIFIED:20250902T213325Z
UID:6716-1758380400-1758380400@dancequestnashville.com
SUMMARY:Bachata
DESCRIPTION:
URL:https://dancequestnashville.com/event/bachata-28/
END:VEVENT
BEGIN:VEVENT
DTSTART;TZID=America/Chicago:20250920T140000
DTEND;TZID=America/Chicago:20250920T140000
DTSTAMP:20260422T080905
CREATED:20250902T213325Z
LAST-MODIFIED:20250902T213325Z
UID:6715-1758376800-1758376800@dancequestnashville.com
SUMMARY:Salsa
DESCRIPTION:
URL:https://dancequestnashville.com/event/salsa-30/
END:VEVENT
BEGIN:VEVENT
DTSTART;VALUE=DATE:20250919
DTEND;VALUE=DATE:20250920
DTSTAMP:20260422T080905
CREATED:20250902T213219Z
LAST-MODIFIED:20250902T213219Z
UID:6690-1758240000-1758326399@dancequestnashville.com
SUMMARY:No Group Class or party
DESCRIPTION:
URL:https://dancequestnashville.com/event/no-group-class-or-party-13/
END:VEVENT
BEGIN:VEVENT
DTSTART;TZID=America/Chicago:20250917T190000
DTEND;TZID=America/Chicago:20250917T190000
DTSTAMP:20260422T080905
CREATED:20250902T204229Z
LAST-MODIFIED:20250902T213255Z
UID:6664-1758135600-1758135600@dancequestnashville.com
SUMMARY:Cha-Cha
DESCRIPTION:
URL:https://dancequestnashville.com/event/cha-cha-5/
END:VEVENT
BEGIN:VEVENT
DTSTART;TZID=America/Chicago:20250916T190000
DTEND;TZID=America/Chicago:20250916T190000
DTSTAMP:20260422T080905
CREATED:20250902T213221Z
LAST-MODIFIED:20250902T213221Z
UID:6693-1758049200-1758049200@dancequestnashville.com
SUMMARY:Rumba
DESCRIPTION:
URL:https://dancequestnashville.com/event/rumba-13/
END:VEVENT
END:VCALENDAR