BEGIN:VCALENDAR
VERSION:2.0
PRODID:-//Dance Quest Ballroom - ECPv6.15.18//NONSGML v1.0//EN
CALSCALE:GREGORIAN
METHOD:PUBLISH
X-WR-CALNAME:Dance Quest Ballroom
X-ORIGINAL-URL:https://dancequestnashville.com
X-WR-CALDESC:Events for Dance Quest Ballroom
REFRESH-INTERVAL;VALUE=DURATION:PT1H
X-Robots-Tag:noindex
X-PUBLISHED-TTL:PT1H
BEGIN:VTIMEZONE
TZID:America/Chicago
BEGIN:DAYLIGHT
TZOFFSETFROM:-0600
TZOFFSETTO:-0500
TZNAME:CDT
DTSTART:20240310T080000
END:DAYLIGHT
BEGIN:STANDARD
TZOFFSETFROM:-0500
TZOFFSETTO:-0600
TZNAME:CST
DTSTART:20241103T070000
END:STANDARD
BEGIN:DAYLIGHT
TZOFFSETFROM:-0600
TZOFFSETTO:-0500
TZNAME:CDT
DTSTART:20250309T080000
END:DAYLIGHT
BEGIN:STANDARD
TZOFFSETFROM:-0500
TZOFFSETTO:-0600
TZNAME:CST
DTSTART:20251102T070000
END:STANDARD
BEGIN:DAYLIGHT
TZOFFSETFROM:-0600
TZOFFSETTO:-0500
TZNAME:CDT
DTSTART:20260308T080000
END:DAYLIGHT
BEGIN:STANDARD
TZOFFSETFROM:-0500
TZOFFSETTO:-0600
TZNAME:CST
DTSTART:20261101T070000
END:STANDARD
BEGIN:DAYLIGHT
TZOFFSETFROM:-0600
TZOFFSETTO:-0500
TZNAME:CDT
DTSTART:20270314T080000
END:DAYLIGHT
BEGIN:STANDARD
TZOFFSETFROM:-0500
TZOFFSETTO:-0600
TZNAME:CST
DTSTART:20271107T070000
END:STANDARD
END:VTIMEZONE
BEGIN:VEVENT
DTSTART;TZID=America/Chicago:20251215T183000
DTEND;TZID=America/Chicago:20251215T183000
DTSTAMP:20260420T115408
CREATED:20251203T220649Z
LAST-MODIFIED:20251203T220649Z
UID:6837-1765823400-1765823400@dancequestnashville.com
SUMMARY:Waltz
DESCRIPTION:
URL:https://dancequestnashville.com/event/waltz-11/
END:VEVENT
BEGIN:VEVENT
DTSTART;TZID=America/Chicago:20251216T190000
DTEND;TZID=America/Chicago:20251216T190000
DTSTAMP:20260420T115408
CREATED:20251203T220703Z
LAST-MODIFIED:20251203T220703Z
UID:6840-1765911600-1765911600@dancequestnashville.com
SUMMARY:Bolero
DESCRIPTION:
URL:https://dancequestnashville.com/event/bolero-4/
END:VEVENT
BEGIN:VEVENT
DTSTART;VALUE=DATE:20251217
DTEND;VALUE=DATE:20251218
DTSTAMP:20260420T115408
CREATED:20251203T220648Z
LAST-MODIFIED:20251203T220648Z
UID:6834-1765929600-1766015999@dancequestnashville.com
SUMMARY:No Group Class
DESCRIPTION:
URL:https://dancequestnashville.com/event/no-group-class-85/
END:VEVENT
BEGIN:VEVENT
DTSTART;VALUE=DATE:20251218
DTEND;VALUE=DATE:20251219
DTSTAMP:20260420T115408
CREATED:20251203T220613Z
LAST-MODIFIED:20251203T220613Z
UID:6821-1766016000-1766102399@dancequestnashville.com
SUMMARY:No Group Class
DESCRIPTION:
URL:https://dancequestnashville.com/event/no-group-class-75/
END:VEVENT
BEGIN:VEVENT
DTSTART;VALUE=DATE:20251219
DTEND;VALUE=DATE:20251220
DTSTAMP:20260420T115408
CREATED:20251203T220633Z
LAST-MODIFIED:20251203T220633Z
UID:6830-1766102400-1766188799@dancequestnashville.com
SUMMARY:No Group Class or Party
DESCRIPTION:
URL:https://dancequestnashville.com/event/no-group-class-or-party-14/
END:VEVENT
BEGIN:VEVENT
DTSTART;TZID=America/Chicago:20251220T140000
DTEND;TZID=America/Chicago:20251220T140000
DTSTAMP:20260420T115408
CREATED:20251203T220734Z
LAST-MODIFIED:20251203T220734Z
UID:6852-1766239200-1766239200@dancequestnashville.com
SUMMARY:Beg. Bachata
DESCRIPTION:
URL:https://dancequestnashville.com/event/beg-bachata-8/
END:VEVENT
BEGIN:VEVENT
DTSTART;TZID=America/Chicago:20251220T150000
DTEND;TZID=America/Chicago:20251220T150000
DTSTAMP:20260420T115408
CREATED:20251203T220748Z
LAST-MODIFIED:20251203T220748Z
UID:6854-1766242800-1766242800@dancequestnashville.com
SUMMARY:Bachata Patterns
DESCRIPTION:
URL:https://dancequestnashville.com/event/bachata-patterns-6/
END:VEVENT
BEGIN:VEVENT
DTSTART;VALUE=DATE:20251221
DTEND;VALUE=DATE:20251222
DTSTAMP:20260420T115408
CREATED:20251203T220616Z
LAST-MODIFIED:20251203T220616Z
UID:6823-1766275200-1766361599@dancequestnashville.com
SUMMARY:No Group Class
DESCRIPTION:
URL:https://dancequestnashville.com/event/no-group-class-77/
END:VEVENT
BEGIN:VEVENT
DTSTART;VALUE=DATE:20251222
DTEND;VALUE=DATE:20251223
DTSTAMP:20260420T115408
CREATED:20251203T220618Z
LAST-MODIFIED:20251203T220618Z
UID:6825-1766361600-1766447999@dancequestnashville.com
SUMMARY:No Group Class
DESCRIPTION:
URL:https://dancequestnashville.com/event/no-group-class-79/
END:VEVENT
BEGIN:VEVENT
DTSTART;VALUE=DATE:20251223
DTEND;VALUE=DATE:20251224
DTSTAMP:20260420T115408
CREATED:20251203T220619Z
LAST-MODIFIED:20251203T220619Z
UID:6826-1766448000-1766534399@dancequestnashville.com
SUMMARY:No Group Class
DESCRIPTION:
URL:https://dancequestnashville.com/event/no-group-class-80/
END:VEVENT
BEGIN:VEVENT
DTSTART;VALUE=DATE:20251224
DTEND;VALUE=DATE:20251225
DTSTAMP:20260420T115408
CREATED:20251203T220619Z
LAST-MODIFIED:20251203T220619Z
UID:6827-1766534400-1766620799@dancequestnashville.com
SUMMARY:No Group Class
DESCRIPTION:
URL:https://dancequestnashville.com/event/no-group-class-81/
END:VEVENT
BEGIN:VEVENT
DTSTART;VALUE=DATE:20251225
DTEND;VALUE=DATE:20251226
DTSTAMP:20260420T115408
CREATED:20251203T220632Z
LAST-MODIFIED:20251203T220632Z
UID:6828-1766620800-1766707199@dancequestnashville.com
SUMMARY:No Group Class
DESCRIPTION:
URL:https://dancequestnashville.com/event/no-group-class-82/
END:VEVENT
BEGIN:VEVENT
DTSTART;VALUE=DATE:20251225
DTEND;VALUE=DATE:20251226
DTSTAMP:20260420T115408
CREATED:20251203T220718Z
LAST-MODIFIED:20251203T220718Z
UID:6844-1766620800-1766707199@dancequestnashville.com
SUMMARY:Studio Closed MERRY CHRISTMAS!
DESCRIPTION:
URL:https://dancequestnashville.com/event/studio-closed-merry-christmas/
END:VEVENT
BEGIN:VEVENT
DTSTART;VALUE=DATE:20251226
DTEND;VALUE=DATE:20251227
DTSTAMP:20260420T115408
CREATED:20251203T220634Z
LAST-MODIFIED:20251203T220634Z
UID:6831-1766707200-1766793599@dancequestnashville.com
SUMMARY:No Group Class or Party
DESCRIPTION:
URL:https://dancequestnashville.com/event/no-group-class-or-party-15/
END:VEVENT
BEGIN:VEVENT
DTSTART;VALUE=DATE:20251228
DTEND;VALUE=DATE:20251229
DTSTAMP:20260420T115408
CREATED:20251203T220617Z
LAST-MODIFIED:20251203T220617Z
UID:6824-1766880000-1766966399@dancequestnashville.com
SUMMARY:No Group Class
DESCRIPTION:
URL:https://dancequestnashville.com/event/no-group-class-78/
END:VEVENT
BEGIN:VEVENT
DTSTART;VALUE=DATE:20251229
DTEND;VALUE=DATE:20251230
DTSTAMP:20260420T115408
CREATED:20251203T220634Z
LAST-MODIFIED:20251203T220634Z
UID:6832-1766966400-1767052799@dancequestnashville.com
SUMMARY:No Group Class
DESCRIPTION:
URL:https://dancequestnashville.com/event/no-group-class-84/
END:VEVENT
BEGIN:VEVENT
DTSTART;VALUE=DATE:20251230
DTEND;VALUE=DATE:20251231
DTSTAMP:20260420T115408
CREATED:20251203T220632Z
LAST-MODIFIED:20251203T220632Z
UID:6829-1767052800-1767139199@dancequestnashville.com
SUMMARY:No Group Class
DESCRIPTION:
URL:https://dancequestnashville.com/event/no-group-class-83/
END:VEVENT
BEGIN:VEVENT
DTSTART;VALUE=DATE:20251231
DTEND;VALUE=DATE:20260101
DTSTAMP:20260420T115408
CREATED:20251203T220717Z
LAST-MODIFIED:20251203T220717Z
UID:6843-1767139200-1767225599@dancequestnashville.com
SUMMARY:Studio Closed HAPPY NEW YEAR'S EVE!
DESCRIPTION:
URL:https://dancequestnashville.com/event/studio-closed-happy-new-years-eve/
END:VEVENT
BEGIN:VEVENT
DTSTART;TZID=America/Chicago:20260101T183000
DTEND;TZID=America/Chicago:20260101T183000
DTSTAMP:20260420T115408
CREATED:20260104T154605Z
LAST-MODIFIED:20260104T154605Z
UID:6880-1767292200-1767292200@dancequestnashville.com
SUMMARY:Happy New Year- Salsa
DESCRIPTION:
URL:https://dancequestnashville.com/event/happy-new-year-salsa/
END:VEVENT
BEGIN:VEVENT
DTSTART;VALUE=DATE:20260102
DTEND;VALUE=DATE:20260103
DTSTAMP:20260420T115408
CREATED:20251203T220647Z
LAST-MODIFIED:20260104T154308Z
UID:6833-1767312000-1767398399@dancequestnashville.com
SUMMARY:No Group Class or Party
DESCRIPTION:
URL:https://dancequestnashville.com/event/no-group-class-or-party-16/
END:VEVENT
BEGIN:VEVENT
DTSTART;TZID=America/Chicago:20260103T140000
DTEND;TZID=America/Chicago:20260103T140000
DTSTAMP:20260420T115408
CREATED:20260104T154647Z
LAST-MODIFIED:20260104T154647Z
UID:6892-1767448800-1767448800@dancequestnashville.com
SUMMARY:Beg. Bachata
DESCRIPTION:
URL:https://dancequestnashville.com/event/beg-bachata-9/
END:VEVENT
BEGIN:VEVENT
DTSTART;TZID=America/Chicago:20260103T150000
DTEND;TZID=America/Chicago:20260103T150000
DTSTAMP:20260420T115408
CREATED:20260104T154648Z
LAST-MODIFIED:20260104T154648Z
UID:6893-1767452400-1767452400@dancequestnashville.com
SUMMARY:Bachata
DESCRIPTION:
URL:https://dancequestnashville.com/event/bachata-40/
END:VEVENT
BEGIN:VEVENT
DTSTART;TZID=America/Chicago:20260104T160000
DTEND;TZID=America/Chicago:20260104T160000
DTSTAMP:20260420T115408
CREATED:20260104T154330Z
LAST-MODIFIED:20260104T154330Z
UID:6869-1767542400-1767542400@dancequestnashville.com
SUMMARY:Bachata
DESCRIPTION:
URL:https://dancequestnashville.com/event/bachata-36/
END:VEVENT
BEGIN:VEVENT
DTSTART;TZID=America/Chicago:20260105T183000
DTEND;TZID=America/Chicago:20260105T183000
DTSTAMP:20260420T115408
CREATED:20260104T154313Z
LAST-MODIFIED:20260104T154313Z
UID:6865-1767637800-1767637800@dancequestnashville.com
SUMMARY:Cha-cha
DESCRIPTION:
URL:https://dancequestnashville.com/event/cha-cha-12/
END:VEVENT
BEGIN:VEVENT
DTSTART;TZID=America/Chicago:20260106T190000
DTEND;TZID=America/Chicago:20260106T190000
DTSTAMP:20260420T115408
CREATED:20260104T154311Z
LAST-MODIFIED:20260104T154532Z
UID:6862-1767726000-1767726000@dancequestnashville.com
SUMMARY:Waltz
DESCRIPTION:
URL:https://dancequestnashville.com/event/waltz-13/
END:VEVENT
BEGIN:VEVENT
DTSTART;VALUE=DATE:20260107
DTEND;VALUE=DATE:20260108
DTSTAMP:20260420T115408
CREATED:20260104T154306Z
LAST-MODIFIED:20260104T154306Z
UID:6858-1767744000-1767830399@dancequestnashville.com
SUMMARY:No Group Class
DESCRIPTION:
URL:https://dancequestnashville.com/event/no-group-class-86/
END:VEVENT
BEGIN:VEVENT
DTSTART;TZID=America/Chicago:20260108T183000
DTEND;TZID=America/Chicago:20260108T183000
DTSTAMP:20260420T115408
CREATED:20260104T154606Z
LAST-MODIFIED:20260104T154606Z
UID:6881-1767897000-1767897000@dancequestnashville.com
SUMMARY:Salsa
DESCRIPTION:
URL:https://dancequestnashville.com/event/salsa-45/
END:VEVENT
BEGIN:VEVENT
DTSTART;TZID=America/Chicago:20260109T190000
DTEND;TZID=America/Chicago:20260109T190000
DTSTAMP:20260420T115408
CREATED:20260104T154618Z
LAST-MODIFIED:20260104T154618Z
UID:6884-1767985200-1767985200@dancequestnashville.com
SUMMARY:Tango
DESCRIPTION:
URL:https://dancequestnashville.com/event/tango-6/
END:VEVENT
BEGIN:VEVENT
DTSTART;TZID=America/Chicago:20260109T200000
DTEND;TZID=America/Chicago:20260109T200000
DTSTAMP:20260420T115408
CREATED:20260104T154633Z
LAST-MODIFIED:20260104T154633Z
UID:6888-1767988800-1767988800@dancequestnashville.com
SUMMARY:Dance Party
DESCRIPTION:
URL:https://dancequestnashville.com/event/dance-party-28/
END:VEVENT
BEGIN:VEVENT
DTSTART;TZID=America/Chicago:20260110T140000
DTEND;TZID=America/Chicago:20260110T140000
DTSTAMP:20260420T115408
CREATED:20260104T154648Z
LAST-MODIFIED:20260104T154648Z
UID:6894-1768053600-1768053600@dancequestnashville.com
SUMMARY:Beg. Bachata
DESCRIPTION:
URL:https://dancequestnashville.com/event/beg-bachata-10/
END:VEVENT
END:VCALENDAR