BEGIN:VCALENDAR
VERSION:2.0
PRODID:-//Dance Quest Ballroom - ECPv6.15.18//NONSGML v1.0//EN
CALSCALE:GREGORIAN
METHOD:PUBLISH
X-WR-CALNAME:Dance Quest Ballroom
X-ORIGINAL-URL:https://dancequestnashville.com
X-WR-CALDESC:Events for Dance Quest Ballroom
REFRESH-INTERVAL;VALUE=DURATION:PT1H
X-Robots-Tag:noindex
X-PUBLISHED-TTL:PT1H
BEGIN:VTIMEZONE
TZID:America/Chicago
BEGIN:DAYLIGHT
TZOFFSETFROM:-0600
TZOFFSETTO:-0500
TZNAME:CDT
DTSTART:20240310T080000
END:DAYLIGHT
BEGIN:STANDARD
TZOFFSETFROM:-0500
TZOFFSETTO:-0600
TZNAME:CST
DTSTART:20241103T070000
END:STANDARD
BEGIN:DAYLIGHT
TZOFFSETFROM:-0600
TZOFFSETTO:-0500
TZNAME:CDT
DTSTART:20250309T080000
END:DAYLIGHT
BEGIN:STANDARD
TZOFFSETFROM:-0500
TZOFFSETTO:-0600
TZNAME:CST
DTSTART:20251102T070000
END:STANDARD
BEGIN:DAYLIGHT
TZOFFSETFROM:-0600
TZOFFSETTO:-0500
TZNAME:CDT
DTSTART:20260308T080000
END:DAYLIGHT
BEGIN:STANDARD
TZOFFSETFROM:-0500
TZOFFSETTO:-0600
TZNAME:CST
DTSTART:20261101T070000
END:STANDARD
END:VTIMEZONE
BEGIN:VEVENT
DTSTART;TZID=America/Chicago:20251111T190000
DTEND;TZID=America/Chicago:20251111T190000
DTSTAMP:20260420T164405
CREATED:20251107T123700Z
LAST-MODIFIED:20251107T123700Z
UID:6776-1762887600-1762887600@dancequestnashville.com
SUMMARY:Fun with Rumba
DESCRIPTION:
URL:https://dancequestnashville.com/event/fun-with-rumba/
END:VEVENT
BEGIN:VEVENT
DTSTART;TZID=America/Chicago:20251112T190000
DTEND;TZID=America/Chicago:20251112T190000
DTSTAMP:20260420T164405
CREATED:20251107T123722Z
LAST-MODIFIED:20251107T123722Z
UID:6790-1762974000-1762974000@dancequestnashville.com
SUMMARY:Cha-Cha
DESCRIPTION:
URL:https://dancequestnashville.com/event/cha-cha-9/
END:VEVENT
BEGIN:VEVENT
DTSTART;TZID=America/Chicago:20251114T190000
DTEND;TZID=America/Chicago:20251114T190000
DTSTAMP:20260420T164405
CREATED:20251107T123736Z
LAST-MODIFIED:20251107T123736Z
UID:6794-1763146800-1763146800@dancequestnashville.com
SUMMARY:Foxtrot
DESCRIPTION:
URL:https://dancequestnashville.com/event/foxtrot-7/
END:VEVENT
BEGIN:VEVENT
DTSTART;TZID=America/Chicago:20251114T200000
DTEND;TZID=America/Chicago:20251114T200000
DTSTAMP:20260420T164405
CREATED:20251107T123751Z
LAST-MODIFIED:20251107T123751Z
UID:6798-1763150400-1763150400@dancequestnashville.com
SUMMARY:Dance Party
DESCRIPTION:
URL:https://dancequestnashville.com/event/dance-party-26/
END:VEVENT
BEGIN:VEVENT
DTSTART;TZID=America/Chicago:20251115T140000
DTEND;TZID=America/Chicago:20251115T140000
DTSTAMP:20260420T164405
CREATED:20251107T123835Z
LAST-MODIFIED:20251107T123835Z
UID:6810-1763215200-1763215200@dancequestnashville.com
SUMMARY:Beg. Bachata
DESCRIPTION:
URL:https://dancequestnashville.com/event/beg-bachata-3/
END:VEVENT
BEGIN:VEVENT
DTSTART;TZID=America/Chicago:20251115T150000
DTEND;TZID=America/Chicago:20251115T150000
DTSTAMP:20260420T164405
CREATED:20251107T123822Z
LAST-MODIFIED:20251107T123822Z
UID:6809-1763218800-1763218800@dancequestnashville.com
SUMMARY:Bachata Patterns
DESCRIPTION:
URL:https://dancequestnashville.com/event/bachata-patterns/
END:VEVENT
BEGIN:VEVENT
DTSTART;TZID=America/Chicago:20251115T200000
DTEND;TZID=America/Chicago:20251115T200000
DTSTAMP:20260420T164405
CREATED:20251107T123822Z
LAST-MODIFIED:20251107T123822Z
UID:6808-1763236800-1763236800@dancequestnashville.com
SUMMARY:Salsa Social
DESCRIPTION:
URL:https://dancequestnashville.com/event/salsa-social-3/
END:VEVENT
BEGIN:VEVENT
DTSTART;TZID=America/Chicago:20251116T160000
DTEND;TZID=America/Chicago:20251116T160000
DTSTAMP:20260420T164405
CREATED:20251107T123807Z
LAST-MODIFIED:20251107T123807Z
UID:6803-1763308800-1763308800@dancequestnashville.com
SUMMARY:Bachata
DESCRIPTION:
URL:https://dancequestnashville.com/event/bachata-35/
END:VEVENT
BEGIN:VEVENT
DTSTART;TZID=America/Chicago:20251116T190000
DTEND;TZID=America/Chicago:20251116T190000
DTSTAMP:20260420T164405
CREATED:20251107T123821Z
LAST-MODIFIED:20251107T123821Z
UID:6807-1763319600-1763319600@dancequestnashville.com
SUMMARY:Salsa
DESCRIPTION:
URL:https://dancequestnashville.com/event/salsa-44/
END:VEVENT
BEGIN:VEVENT
DTSTART;TZID=America/Chicago:20251117T183000
DTEND;TZID=America/Chicago:20251117T183000
DTSTAMP:20260420T164405
CREATED:20251107T123707Z
LAST-MODIFIED:20251107T123707Z
UID:6785-1763404200-1763404200@dancequestnashville.com
SUMMARY:Waltz
DESCRIPTION:
URL:https://dancequestnashville.com/event/waltz-7/
END:VEVENT
BEGIN:VEVENT
DTSTART;TZID=America/Chicago:20251118T190000
DTEND;TZID=America/Chicago:20251118T190000
DTSTAMP:20260420T164405
CREATED:20251107T123721Z
LAST-MODIFIED:20251107T123721Z
UID:6788-1763492400-1763492400@dancequestnashville.com
SUMMARY:International Tango
DESCRIPTION:
URL:https://dancequestnashville.com/event/international-tango/
END:VEVENT
BEGIN:VEVENT
DTSTART;TZID=America/Chicago:20251119T190000
DTEND;TZID=America/Chicago:20251119T190000
DTSTAMP:20260420T164405
CREATED:20251107T123735Z
LAST-MODIFIED:20251107T123735Z
UID:6791-1763578800-1763578800@dancequestnashville.com
SUMMARY:Cha-Cha
DESCRIPTION:
URL:https://dancequestnashville.com/event/cha-cha-10/
END:VEVENT
BEGIN:VEVENT
DTSTART;TZID=America/Chicago:20251121T190000
DTEND;TZID=America/Chicago:20251121T190000
DTSTAMP:20260420T164405
CREATED:20251107T123737Z
LAST-MODIFIED:20251107T123737Z
UID:6795-1763751600-1763751600@dancequestnashville.com
SUMMARY:E.C. Swing
DESCRIPTION:
URL:https://dancequestnashville.com/event/e-c-swing-9/
END:VEVENT
BEGIN:VEVENT
DTSTART;TZID=America/Chicago:20251121T200000
DTEND;TZID=America/Chicago:20251121T200000
DTSTAMP:20260420T164405
CREATED:20251107T123752Z
LAST-MODIFIED:20251107T123752Z
UID:6799-1763755200-1763755200@dancequestnashville.com
SUMMARY:Dance Party
DESCRIPTION:
URL:https://dancequestnashville.com/event/dance-party-27/
END:VEVENT
BEGIN:VEVENT
DTSTART;VALUE=DATE:20251122
DTEND;VALUE=DATE:20251123
DTSTAMP:20260420T164405
CREATED:20251107T123702Z
LAST-MODIFIED:20251107T123702Z
UID:6779-1763769600-1763855999@dancequestnashville.com
SUMMARY:No Group Class
DESCRIPTION:
URL:https://dancequestnashville.com/event/no-group-class-67/
END:VEVENT
BEGIN:VEVENT
DTSTART;VALUE=DATE:20251123
DTEND;VALUE=DATE:20251124
DTSTAMP:20260420T164405
CREATED:20251107T123701Z
LAST-MODIFIED:20251107T123701Z
UID:6778-1763856000-1763942399@dancequestnashville.com
SUMMARY:No Group Class
DESCRIPTION:
URL:https://dancequestnashville.com/event/no-group-class-66/
END:VEVENT
BEGIN:VEVENT
DTSTART;TZID=America/Chicago:20251124T183000
DTEND;TZID=America/Chicago:20251124T183000
DTSTAMP:20260420T164405
CREATED:20251107T123720Z
LAST-MODIFIED:20251107T123720Z
UID:6786-1764009000-1764009000@dancequestnashville.com
SUMMARY:Waltz
DESCRIPTION:
URL:https://dancequestnashville.com/event/waltz-8/
END:VEVENT
BEGIN:VEVENT
DTSTART;VALUE=DATE:20251125
DTEND;VALUE=DATE:20251126
DTSTAMP:20260420T164405
CREATED:20251107T123705Z
LAST-MODIFIED:20251107T123705Z
UID:6782-1764028800-1764115199@dancequestnashville.com
SUMMARY:No Group Class
DESCRIPTION:
URL:https://dancequestnashville.com/event/no-group-class-70/
END:VEVENT
BEGIN:VEVENT
DTSTART;VALUE=DATE:20251126
DTEND;VALUE=DATE:20251127
DTSTAMP:20260420T164405
CREATED:20251107T123705Z
LAST-MODIFIED:20251107T123705Z
UID:6781-1764115200-1764201599@dancequestnashville.com
SUMMARY:No Group Class
DESCRIPTION:
URL:https://dancequestnashville.com/event/no-group-class-69/
END:VEVENT
BEGIN:VEVENT
DTSTART;VALUE=DATE:20251127
DTEND;VALUE=DATE:20251128
DTSTAMP:20260420T164405
CREATED:20251107T123736Z
LAST-MODIFIED:20251107T123736Z
UID:6792-1764201600-1764287999@dancequestnashville.com
SUMMARY:Studio Closed HAPPY THANKSGIVING
DESCRIPTION:
URL:https://dancequestnashville.com/event/studio-closed-happy-thanksgiving/
END:VEVENT
BEGIN:VEVENT
DTSTART;TZID=America/Chicago:20251128T190000
DTEND;TZID=America/Chicago:20251128T190000
DTSTAMP:20260420T164405
CREATED:20251107T123750Z
LAST-MODIFIED:20251107T123750Z
UID:6796-1764356400-1764356400@dancequestnashville.com
SUMMARY:Cha-Cha
DESCRIPTION:
URL:https://dancequestnashville.com/event/cha-cha-11/
END:VEVENT
BEGIN:VEVENT
DTSTART;TZID=America/Chicago:20251128T200000
DTEND;TZID=America/Chicago:20251128T200000
DTSTAMP:20260420T164405
CREATED:20251107T123805Z
LAST-MODIFIED:20251107T123805Z
UID:6800-1764360000-1764360000@dancequestnashville.com
SUMMARY:LEFTOVERS PARTY
DESCRIPTION:
URL:https://dancequestnashville.com/event/leftovers-party/
END:VEVENT
BEGIN:VEVENT
DTSTART;VALUE=DATE:20251129
DTEND;VALUE=DATE:20251130
DTSTAMP:20260420T164405
CREATED:20251107T123706Z
LAST-MODIFIED:20251107T123706Z
UID:6783-1764374400-1764460799@dancequestnashville.com
SUMMARY:No Group Class
DESCRIPTION:
URL:https://dancequestnashville.com/event/no-group-class-71/
END:VEVENT
BEGIN:VEVENT
DTSTART;VALUE=DATE:20251130
DTEND;VALUE=DATE:20251201
DTSTAMP:20260420T164405
CREATED:20251107T123703Z
LAST-MODIFIED:20251107T123703Z
UID:6780-1764460800-1764547199@dancequestnashville.com
SUMMARY:No Group Class
DESCRIPTION:
URL:https://dancequestnashville.com/event/no-group-class-68/
END:VEVENT
BEGIN:VEVENT
DTSTART;TZID=America/Chicago:20251201T183000
DTEND;TZID=America/Chicago:20251201T183000
DTSTAMP:20260420T164405
CREATED:20251203T220648Z
LAST-MODIFIED:20251203T220648Z
UID:6835-1764613800-1764613800@dancequestnashville.com
SUMMARY:Waltz
DESCRIPTION:
URL:https://dancequestnashville.com/event/waltz-9/
END:VEVENT
BEGIN:VEVENT
DTSTART;TZID=America/Chicago:20251202T190000
DTEND;TZID=America/Chicago:20251202T190000
DTSTAMP:20260420T164405
CREATED:20251203T220702Z
LAST-MODIFIED:20251203T220702Z
UID:6838-1764702000-1764702000@dancequestnashville.com
SUMMARY:Bolero
DESCRIPTION:
URL:https://dancequestnashville.com/event/bolero-2/
END:VEVENT
BEGIN:VEVENT
DTSTART;TZID=America/Chicago:20251203T190000
DTEND;TZID=America/Chicago:20251203T190000
DTSTAMP:20260420T164405
CREATED:20251203T220704Z
LAST-MODIFIED:20251203T220704Z
UID:6841-1764788400-1764788400@dancequestnashville.com
SUMMARY:Swing
DESCRIPTION:
URL:https://dancequestnashville.com/event/swing-4/
END:VEVENT
BEGIN:VEVENT
DTSTART;VALUE=DATE:20251204
DTEND;VALUE=DATE:20251205
DTSTAMP:20260420T164405
CREATED:20251203T220612Z
LAST-MODIFIED:20251203T220612Z
UID:6819-1764806400-1764892799@dancequestnashville.com
SUMMARY:No Group Class
DESCRIPTION:
URL:https://dancequestnashville.com/event/no-group-class-73/
END:VEVENT
BEGIN:VEVENT
DTSTART;TZID=America/Chicago:20251205T200000
DTEND;TZID=America/Chicago:20251205T200000
DTSTAMP:20260420T164405
CREATED:20251203T220719Z
LAST-MODIFIED:20251203T220719Z
UID:6846-1764964800-1764964800@dancequestnashville.com
SUMMARY:Christmas & Anniversary Party
DESCRIPTION:
URL:https://dancequestnashville.com/event/christmas-anniversary-party/
END:VEVENT
BEGIN:VEVENT
DTSTART;TZID=America/Chicago:20251206T140000
DTEND;TZID=America/Chicago:20251206T140000
DTSTAMP:20260420T164405
CREATED:20251203T220733Z
LAST-MODIFIED:20251203T220733Z
UID:6849-1765029600-1765029600@dancequestnashville.com
SUMMARY:Beg. Bachata
DESCRIPTION:
URL:https://dancequestnashville.com/event/beg-bachata-6/
END:VEVENT
END:VCALENDAR