BEGIN:VCALENDAR
VERSION:2.0
PRODID:-//Dance Quest Ballroom - ECPv6.15.18//NONSGML v1.0//EN
CALSCALE:GREGORIAN
METHOD:PUBLISH
X-WR-CALNAME:Dance Quest Ballroom
X-ORIGINAL-URL:https://dancequestnashville.com
X-WR-CALDESC:Events for Dance Quest Ballroom
REFRESH-INTERVAL;VALUE=DURATION:PT1H
X-Robots-Tag:noindex
X-PUBLISHED-TTL:PT1H
BEGIN:VTIMEZONE
TZID:America/Chicago
BEGIN:DAYLIGHT
TZOFFSETFROM:-0600
TZOFFSETTO:-0500
TZNAME:CDT
DTSTART:20240310T080000
END:DAYLIGHT
BEGIN:STANDARD
TZOFFSETFROM:-0500
TZOFFSETTO:-0600
TZNAME:CST
DTSTART:20241103T070000
END:STANDARD
BEGIN:DAYLIGHT
TZOFFSETFROM:-0600
TZOFFSETTO:-0500
TZNAME:CDT
DTSTART:20250309T080000
END:DAYLIGHT
BEGIN:STANDARD
TZOFFSETFROM:-0500
TZOFFSETTO:-0600
TZNAME:CST
DTSTART:20251102T070000
END:STANDARD
BEGIN:DAYLIGHT
TZOFFSETFROM:-0600
TZOFFSETTO:-0500
TZNAME:CDT
DTSTART:20260308T080000
END:DAYLIGHT
BEGIN:STANDARD
TZOFFSETFROM:-0500
TZOFFSETTO:-0600
TZNAME:CST
DTSTART:20261101T070000
END:STANDARD
END:VTIMEZONE
BEGIN:VEVENT
DTSTART;TZID=America/Chicago:20250915T183000
DTEND;TZID=America/Chicago:20250915T183000
DTSTAMP:20260422T112239
CREATED:20250902T204214Z
LAST-MODIFIED:20250902T213240Z
UID:6659-1757961000-1757961000@dancequestnashville.com
SUMMARY:E.C. Swing
DESCRIPTION:
URL:https://dancequestnashville.com/event/e-c-swing-3/
END:VEVENT
BEGIN:VEVENT
DTSTART;TZID=America/Chicago:20250914T170000
DTEND;TZID=America/Chicago:20250914T170000
DTSTAMP:20260422T112239
CREATED:20250902T213342Z
LAST-MODIFIED:20250902T213342Z
UID:6722-1757869200-1757869200@dancequestnashville.com
SUMMARY:Salsa
DESCRIPTION:
URL:https://dancequestnashville.com/event/salsa-31/
END:VEVENT
BEGIN:VEVENT
DTSTART;TZID=America/Chicago:20250914T160000
DTEND;TZID=America/Chicago:20250914T160000
DTSTAMP:20260422T112239
CREATED:20250902T204314Z
LAST-MODIFIED:20250902T213340Z
UID:6679-1757865600-1757865600@dancequestnashville.com
SUMMARY:Bachata
DESCRIPTION:
URL:https://dancequestnashville.com/event/bachata-23/
END:VEVENT
BEGIN:VEVENT
DTSTART;TZID=America/Chicago:20250913T200000
DTEND;TZID=America/Chicago:20250913T200000
DTSTAMP:20260422T112239
CREATED:20250902T213324Z
LAST-MODIFIED:20250902T220710Z
UID:6714-1757793600-1757793600@dancequestnashville.com
SUMMARY:Kizomba Class 8pm-12am
DESCRIPTION:
URL:https://dancequestnashville.com/event/kizomba-class-3/
END:VEVENT
BEGIN:VEVENT
DTSTART;TZID=America/Chicago:20250913T150000
DTEND;TZID=America/Chicago:20250913T150000
DTSTAMP:20260422T112239
CREATED:20250902T213312Z
LAST-MODIFIED:20250902T213312Z
UID:6713-1757775600-1757775600@dancequestnashville.com
SUMMARY:Bachata
DESCRIPTION:
URL:https://dancequestnashville.com/event/bachata-27/
END:VEVENT
BEGIN:VEVENT
DTSTART;TZID=America/Chicago:20250913T140000
DTEND;TZID=America/Chicago:20250913T140000
DTSTAMP:20260422T112239
CREATED:20250902T213311Z
LAST-MODIFIED:20250902T213311Z
UID:6712-1757772000-1757772000@dancequestnashville.com
SUMMARY:Salsa
DESCRIPTION:
URL:https://dancequestnashville.com/event/salsa-29/
END:VEVENT
BEGIN:VEVENT
DTSTART;TZID=America/Chicago:20250912T200000
DTEND;TZID=America/Chicago:20250912T200000
DTSTAMP:20260422T112239
CREATED:20250902T213256Z
LAST-MODIFIED:20250902T220513Z
UID:6707-1757707200-1757707200@dancequestnashville.com
SUMMARY:Dance Party 8pm-12am
DESCRIPTION:
URL:https://dancequestnashville.com/event/dance-party-21/
END:VEVENT
BEGIN:VEVENT
DTSTART;TZID=America/Chicago:20250912T190000
DTEND;TZID=America/Chicago:20250912T190000
DTSTAMP:20260422T112239
CREATED:20250902T213256Z
LAST-MODIFIED:20250902T213256Z
UID:6706-1757703600-1757703600@dancequestnashville.com
SUMMARY:Foxtrot
DESCRIPTION:
URL:https://dancequestnashville.com/event/foxtrot-6/
END:VEVENT
BEGIN:VEVENT
DTSTART;TZID=America/Chicago:20250910T190000
DTEND;TZID=America/Chicago:20250910T190000
DTSTAMP:20260422T112239
CREATED:20250902T204216Z
LAST-MODIFIED:20250902T213242Z
UID:6663-1757530800-1757530800@dancequestnashville.com
SUMMARY:Cha-Cha
DESCRIPTION:
URL:https://dancequestnashville.com/event/cha-cha-4/
END:VEVENT
BEGIN:VEVENT
DTSTART;TZID=America/Chicago:20250909T190000
DTEND;TZID=America/Chicago:20250909T190000
DTSTAMP:20260422T112239
CREATED:20250902T213220Z
LAST-MODIFIED:20250902T213220Z
UID:6692-1757444400-1757444400@dancequestnashville.com
SUMMARY:Rumba
DESCRIPTION:
URL:https://dancequestnashville.com/event/rumba-12/
END:VEVENT
BEGIN:VEVENT
DTSTART;TZID=America/Chicago:20250908T183000
DTEND;TZID=America/Chicago:20250908T183000
DTSTAMP:20260422T112239
CREATED:20250902T204159Z
LAST-MODIFIED:20250902T213226Z
UID:6657-1757356200-1757356200@dancequestnashville.com
SUMMARY:E.C. Swing
DESCRIPTION:
URL:https://dancequestnashville.com/event/e-c-swing/
END:VEVENT
BEGIN:VEVENT
DTSTART;TZID=America/Chicago:20250907T170000
DTEND;TZID=America/Chicago:20250907T170000
DTSTAMP:20260422T112239
CREATED:20250902T213357Z
LAST-MODIFIED:20250902T213357Z
UID:6725-1757264400-1757264400@dancequestnashville.com
SUMMARY:Salsa
DESCRIPTION:
URL:https://dancequestnashville.com/event/salsa-34/
END:VEVENT
BEGIN:VEVENT
DTSTART;TZID=America/Chicago:20250907T160000
DTEND;TZID=America/Chicago:20250907T160000
DTSTAMP:20260422T112239
CREATED:20250902T204245Z
LAST-MODIFIED:20250902T213311Z
UID:6671-1757260800-1757260800@dancequestnashville.com
SUMMARY:Bachata
DESCRIPTION:
URL:https://dancequestnashville.com/event/bachata-19/
END:VEVENT
BEGIN:VEVENT
DTSTART;TZID=America/Chicago:20250906T150000
DTEND;TZID=America/Chicago:20250906T150000
DTSTAMP:20260422T112239
CREATED:20250902T213310Z
LAST-MODIFIED:20250902T213310Z
UID:6710-1757170800-1757170800@dancequestnashville.com
SUMMARY:Bachata
DESCRIPTION:
URL:https://dancequestnashville.com/event/bachata-26/
END:VEVENT
BEGIN:VEVENT
DTSTART;TZID=America/Chicago:20250906T140000
DTEND;TZID=America/Chicago:20250906T140000
DTSTAMP:20260422T112239
CREATED:20250902T213310Z
LAST-MODIFIED:20250902T213310Z
UID:6709-1757167200-1757167200@dancequestnashville.com
SUMMARY:Salsa
DESCRIPTION:
URL:https://dancequestnashville.com/event/salsa-28/
END:VEVENT
BEGIN:VEVENT
DTSTART;TZID=America/Chicago:20250905T200000
DTEND;TZID=America/Chicago:20250905T200000
DTSTAMP:20260422T112239
CREATED:20250902T213241Z
LAST-MODIFIED:20250902T220430Z
UID:6701-1757102400-1757102400@dancequestnashville.com
SUMMARY:Dance Party 8pm-10pm
DESCRIPTION:
URL:https://dancequestnashville.com/event/dance-party-20/
END:VEVENT
BEGIN:VEVENT
DTSTART;TZID=America/Chicago:20250905T190000
DTEND;TZID=America/Chicago:20250905T190000
DTSTAMP:20260422T112239
CREATED:20250902T213218Z
LAST-MODIFIED:20250902T213218Z
UID:6689-1757098800-1757098800@dancequestnashville.com
SUMMARY:Rumba
DESCRIPTION:
URL:https://dancequestnashville.com/event/rumba-11/
END:VEVENT
BEGIN:VEVENT
DTSTART;TZID=America/Chicago:20250903T190000
DTEND;TZID=America/Chicago:20250903T190000
DTSTAMP:20260422T112239
CREATED:20250902T204216Z
LAST-MODIFIED:20250902T213241Z
UID:6662-1756926000-1756926000@dancequestnashville.com
SUMMARY:Cha-Cha
DESCRIPTION:
URL:https://dancequestnashville.com/event/cha-cha-3/
END:VEVENT
BEGIN:VEVENT
DTSTART;VALUE=DATE:20250902
DTEND;VALUE=DATE:20250903
DTSTAMP:20260422T112239
CREATED:20250902T204154Z
LAST-MODIFIED:20250902T213219Z
UID:6651-1756771200-1756857599@dancequestnashville.com
SUMMARY:No Group Class
DESCRIPTION:
URL:https://dancequestnashville.com/event/no-group-class-62/
END:VEVENT
BEGIN:VEVENT
DTSTART;VALUE=DATE:20250901
DTEND;VALUE=DATE:20250902
DTSTAMP:20260422T112239
CREATED:20250902T220803Z
LAST-MODIFIED:20250902T220803Z
UID:6732-1756684800-1756771199@dancequestnashville.com
SUMMARY:LABOR DAY- Studio Closed
DESCRIPTION:
URL:https://dancequestnashville.com/event/labor-day-studio-closed/
END:VEVENT
BEGIN:VEVENT
DTSTART;TZID=America/Chicago:20250831T160000
DTEND;TZID=America/Chicago:20250831T160000
DTSTAMP:20260422T112239
CREATED:20250801T221948Z
LAST-MODIFIED:20250801T221948Z
UID:6607-1756656000-1756656000@dancequestnashville.com
SUMMARY:Salsa
DESCRIPTION:
URL:https://dancequestnashville.com/event/salsa-14/
END:VEVENT
BEGIN:VEVENT
DTSTART;TZID=America/Chicago:20250831T150000
DTEND;TZID=America/Chicago:20250831T150000
DTSTAMP:20260422T112239
CREATED:20250801T221952Z
LAST-MODIFIED:20250801T221952Z
UID:6612-1756652400-1756652400@dancequestnashville.com
SUMMARY:Bachata
DESCRIPTION:
URL:https://dancequestnashville.com/event/bachata-12/
END:VEVENT
BEGIN:VEVENT
DTSTART;TZID=America/Chicago:20250830T150000
DTEND;TZID=America/Chicago:20250830T150000
DTSTAMP:20260422T112239
CREATED:20250801T222137Z
LAST-MODIFIED:20250801T222137Z
UID:6644-1756566000-1756566000@dancequestnashville.com
SUMMARY:Bachata
DESCRIPTION:
URL:https://dancequestnashville.com/event/bachata-17/
END:VEVENT
BEGIN:VEVENT
DTSTART;TZID=America/Chicago:20250830T140000
DTEND;TZID=America/Chicago:20250830T140000
DTSTAMP:20260422T112239
CREATED:20250801T222136Z
LAST-MODIFIED:20250801T222136Z
UID:6643-1756562400-1756562400@dancequestnashville.com
SUMMARY:Salsa
DESCRIPTION:
URL:https://dancequestnashville.com/event/salsa-19/
END:VEVENT
BEGIN:VEVENT
DTSTART;TZID=America/Chicago:20250829T200000
DTEND;TZID=America/Chicago:20250829T200000
DTSTAMP:20260422T112239
CREATED:20250801T222051Z
LAST-MODIFIED:20250801T222051Z
UID:6629-1756497600-1756497600@dancequestnashville.com
SUMMARY:Dance Party
DESCRIPTION:
URL:https://dancequestnashville.com/event/dance-party-16/
END:VEVENT
BEGIN:VEVENT
DTSTART;TZID=America/Chicago:20250829T190000
DTEND;TZID=America/Chicago:20250829T190000
DTSTAMP:20260422T112239
CREATED:20250801T222106Z
LAST-MODIFIED:20250801T222106Z
UID:6632-1756494000-1756494000@dancequestnashville.com
SUMMARY:Swing
DESCRIPTION:
URL:https://dancequestnashville.com/event/swing-2/
END:VEVENT
BEGIN:VEVENT
DTSTART;TZID=America/Chicago:20250827T190000
DTEND;TZID=America/Chicago:20250827T190000
DTSTAMP:20260422T112239
CREATED:20250801T222036Z
LAST-MODIFIED:20250801T222036Z
UID:6624-1756321200-1756321200@dancequestnashville.com
SUMMARY:Beginner Class Rumba
DESCRIPTION:
URL:https://dancequestnashville.com/event/beginner-class-rumba/
END:VEVENT
BEGIN:VEVENT
DTSTART;TZID=America/Chicago:20250826T190000
DTEND;TZID=America/Chicago:20250826T190000
DTSTAMP:20260422T112239
CREATED:20250801T222022Z
LAST-MODIFIED:20250801T222022Z
UID:6621-1756234800-1756234800@dancequestnashville.com
SUMMARY:Foxtrot
DESCRIPTION:
URL:https://dancequestnashville.com/event/foxtrot-4/
END:VEVENT
BEGIN:VEVENT
DTSTART;TZID=America/Chicago:20250825T183000
DTEND;TZID=America/Chicago:20250825T183000
DTSTAMP:20260422T112239
CREATED:20250801T222021Z
LAST-MODIFIED:20250801T222021Z
UID:6618-1756146600-1756146600@dancequestnashville.com
SUMMARY:Samba
DESCRIPTION:
URL:https://dancequestnashville.com/event/samba-3/
END:VEVENT
BEGIN:VEVENT
DTSTART;TZID=America/Chicago:20250824T160000
DTEND;TZID=America/Chicago:20250824T160000
DTSTAMP:20260422T112239
CREATED:20250801T221947Z
LAST-MODIFIED:20250801T221947Z
UID:6606-1756051200-1756051200@dancequestnashville.com
SUMMARY:Salsa
DESCRIPTION:
URL:https://dancequestnashville.com/event/salsa-13/
END:VEVENT
END:VCALENDAR